Workbook

Sheet 集計表
A1: 米沢オープン卓球大会参加申込書集計表（ラージボール）
B3: チーム名
B4: 申込責任者
B5: 電話番号
B6: メールアドレス
B8: ※このシートでは上の４項目のみ入力してください
B9: ※電話番号は可能ならば携帯電話の番号を入力お願いいたします
B10: ※人数・組数・金額は、別シートの種目毎の申込書に名簿を入力していただくと
B11: 自動で計算します
B12: ※参加料振込の際は、必ずチーム名でお願いいたします
A14: 種 目 | G14: 参加料 | H14: 人数 組数 | I14: 金額
A15: ラージボール男子シングルス４０歳以上６０歳未満 | G15: 1500 | H15: =COUNTA('男S～60'!B12:D31)+COUNTA('男S～60'!H12:J31) -> 0 | I15: =IF(H15<>0,$G$15*H15,"")
A16: ラージボール男子シングルス６０歳以上７０歳未満 | H16: =COUNTA('男S60～70'!B12:D31)+COUNTA('男S60～70'!H12:J31) -> 0 | I16: =IF(H16<>0,$G$15*H16,"")
A17: ラージボール男子シングルス７０歳以上７５歳未満 | H17: =COUNTA('男S70～75'!B12:D31)+COUNTA('男S70～75'!H12:J31) -> 0 | I17: =IF(H17<>0,$G$15*H17,"")
A18: ラージボール男子シングルス７５歳以上 | H18: =COUNTA('男S75～'!B12:D31)+COUNTA('男S75～'!H12:J31) -> 0 | I18: =IF(H18<>0,$G$15*H18,"")
A19: ラージボール女子シングルス４０歳以上６０歳未満 | H19: =COUNTA('女S～60'!B12:D31)+COUNTA('女S～60'!H12:J31) -> 0 | I19: =IF(H19<>0,$G$15*H19,"")
A20: ラージボール女子シングルス６０歳以上７０歳未満 | H20: =COUNTA('女S60～70'!B12:D31)+COUNTA('女S60～70'!H12:J31) -> 0 | I20: =IF(H20<>0,$G$15*H20,"")
A21: ラージボール女子シングルス７０歳以上７５歳未満 | H21: =COUNTA('女S70～75'!B12:D31)+COUNTA('女S70～75'!H12:J31) -> 0 | I21: =IF(H21<>0,$G$15*H21,"")
A22: ラージボール女子シングルス７５歳以上 | H22: =COUNTA('女S75～'!B12:D31)+COUNTA('女S75～'!H12:J31) -> 0 | I22: =IF(H22<>0,$G$15*H22,"")
A23: ラージボール混合ダブルス８０歳以上１２０歳未満 | G23: 2500 | H23: =(COUNTA('混合～120'!B12:D31)+COUNTA('混合～120'!H12:J31))/2 -> 0 | I23: =IF(H23<>0,$G$23*H23,"")
A24: ラージボール混合ダブルス１２０歳以上１４０歳未満 | H24: =(COUNTA('混合120～140'!B12:D31)+COUNTA('混合120～140'!H12:J31))/2 -> 0 | I24: =IF(H24<>0,$G$23*H24,"")
A25: ラージボール混合ダブルス１４０歳以上１５０歳未満 | H25: =(COUNTA('混合140～150'!B12:D31)+COUNTA('混合140～150'!H12:J31))/2 -> 0 | I25: =IF(H25<>0,$G$23*H25,"")
A26: ラージボール混合ダブルス１５０歳以上 | H26: =(COUNTA('混合150～'!B12:D31)+COUNTA('混合150～'!H12:J31))/2 -> 0 | I26: =IF(H26<>0,$G$23*H26,"")
A27: 合 計 | I27: =SUM(I15:I26) -> 0

Sheet 男S～60
C1: チーム名 | E1: =IF(集計表!$D$3<>"",集計表!$D$3,"")
C2: 申込責任者 | E2: =IF(集計表!$D$4<>"",集計表!$D$4,"")
C3: 電話番号 | E3: =IF(集計表!$D$5<>"",集計表!$D$5,"")
C4: メールアドレス | E4: =IF(集計表!$D$6<>"",集計表!$D$6,"")
C6: 種目名 | E6: ラージボール男子シングルス ６０歳未満
C8: ※このシートでは氏名と年齢のみ入力してください
C9: ※強い選手から順に入力してください
A11: № | B11: 氏 名 | E11: 年齢 | G11: № | H11: 氏 名 | K11: 年齢
A12: 1 | G12: 21
A13: 2 | G13: 22
A14: 3 | G14: 23
A15: 4 | G15: 24
A16: 5 | G16: 25
A17: 6 | G17: 26
A18: 7 | G18: 27
A19: 8 | G19: 28
A20: 9 | G20: 29
A21: 10 | G21: 30
A22: 11 | G22: 31
A23: 12 | G23: 32
... A31: 20 | G31: 40

Sheet 男S60～70
C1: チーム名 | E1: =IF(集計表!$D$3<>"",集計表!$D$3,"")
C2: 申込責任者 | E2: =IF(集計表!$D$4<>"",集計表!$D$4,"")
C3: 電話番号 | E3: =IF(集計表!$D$5<>"",集計表!$D$5,"")
C4: メールアドレス | E4: =IF(集計表!$D$6<>"",集計表!$D$6,"")
C6: 種目名 | E6: ラージボール男子シングルス ６０歳以上７０歳未満
C8: ※このシートでは氏名と年齢のみ入力してください
C9: ※強い選手から順に入力してください
A11: № | B11: 氏 名 | E11: 年齢 | G11: № | H11: 氏 名 | K11: 年齢
A12: 1 | G12: 21
A13: 2 | G13: 22
A14: 3 | G14: 23
A15: 4 | G15: 24
A16: 5 | G16: 25
A17: 6 | G17: 26
A18: 7 | G18: 27
A19: 8 | G19: 28
A20: 9 | G20: 29
A21: 10 | G21: 30
A22: 11 | G22: 31
A23: 12 | G23: 32
... A31: 20 | G31: 40

Sheet 男S70～75
C1: チーム名 | E1: =IF(集計表!$D$3<>"",集計表!$D$3,"")
C2: 申込責任者 | E2: =IF(集計表!$D$4<>"",集計表!$D$4,"")
C3: 電話番号 | E3: =IF(集計表!$D$5<>"",集計表!$D$5,"")
C4: メールアドレス | E4: =IF(集計表!$D$6<>"",集計表!$D$6,"")
C6: 種目名 | E6: ラージボール男子シングルス ７０歳以上７５歳未満
C8: ※このシートでは氏名と年齢のみ入力してください
C9: ※強い選手から順に入力してください
A11: № | B11: 氏 名 | E11: 年齢 | G11: № | H11: 氏 名 | K11: 年齢
A12: 1 | G12: 21
A13: 2 | G13: 22
A14: 3 | G14: 23
A15: 4 | G15: 24
A16: 5 | G16: 25
A17: 6 | G17: 26
A18: 7 | G18: 27
A19: 8 | G19: 28
A20: 9 | G20: 29
A21: 10 | G21: 30
A22: 11 | G22: 31
A23: 12 | G23: 32
... A31: 20 | G31: 40

Sheet 男S75～
C1: チーム名 | E1: =IF(集計表!$D$3<>"",集計表!$D$3,"")
C2: 申込責任者 | E2: =IF(集計表!$D$4<>"",集計表!$D$4,"")
C3: 電話番号 | E3: =IF(集計表!$D$5<>"",集計表!$D$5,"")
C4: メールアドレス | E4: =IF(集計表!$D$6<>"",集計表!$D$6,"")
C6: 種目名 | E6: ラージボール男子シングルス ７５歳以上
C8: ※このシートでは氏名と年齢のみ入力してください
C9: ※強い選手から順に入力してください
A11: № | B11: 氏 名 | E11: 年齢 | G11: № | H11: 氏 名 | K11: 年齢
A12: 1 | G12: 21
A13: 2 | G13: 22
A14: 3 | G14: 23
A15: 4 | G15: 24
A16: 5 | G16: 25
A17: 6 | G17: 26
A18: 7 | G18: 27
A19: 8 | G19: 28
A20: 9 | G20: 29
A21: 10 | G21: 30
A22: 11 | G22: 31
A23: 12 | G23: 32
... A31: 20 | G31: 40

Sheet 女S～60
C1: チーム名 | E1: =IF(集計表!$D$3<>"",集計表!$D$3,"")
C2: 申込責任者 | E2: =IF(集計表!$D$4<>"",集計表!$D$4,"")
C3: 電話番号 | E3: =IF(集計表!$D$5<>"",集計表!$D$5,"")
C4: メールアドレス | E4: =IF(集計表!$D$6<>"",集計表!$D$6,"")
C6: 種目名 | E6: ラージボール女子シングルス ６０歳未満
C8: ※このシートでは氏名と年齢のみ入力してください
C9: ※強い選手から順に入力してください
A11: № | B11: 氏 名 | E11: 年齢 | G11: № | H11: 氏 名 | K11: 年齢
A12: 1 | G12: 21
A13: 2 | G13: 22
A14: 3 | G14: 23
A15: 4 | G15: 24
A16: 5 | G16: 25
A17: 6 | G17: 26
A18: 7 | G18: 27
A19: 8 | G19: 28
A20: 9 | G20: 29
A21: 10 | G21: 30
A22: 11 | G22: 31
A23: 12 | G23: 32
... A31: 20 | G31: 40

Sheet 女S60～70
C1: チーム名 | E1: =IF(集計表!$D$3<>"",集計表!$D$3,"")
C2: 申込責任者 | E2: =IF(集計表!$D$4<>"",集計表!$D$4,"")
C3: 電話番号 | E3: =IF(集計表!$D$5<>"",集計表!$D$5,"")
C4: メールアドレス | E4: =IF(集計表!$D$6<>"",集計表!$D$6,"")
C6: 種目名 | E6: ラージボール女子シングルス ６０歳以上７０歳未満
C8: ※このシートでは氏名と年齢のみ入力してください
C9: ※強い選手から順に入力してください
A11: № | B11: 氏 名 | E11: 年齢 | G11: № | H11: 氏 名 | K11: 年齢
A12: 1 | G12: 21
A13: 2 | G13: 22
A14: 3 | G14: 23
A15: 4 | G15: 24
A16: 5 | G16: 25
A17: 6 | G17: 26
A18: 7 | G18: 27
A19: 8 | G19: 28
A20: 9 | G20: 29
A21: 10 | G21: 30
A22: 11 | G22: 31
A23: 12 | G23: 32
... A31: 20 | G31: 40

Sheet 女S70～75
C1: チーム名 | E1: =IF(集計表!$D$3<>"",集計表!$D$3,"")
C2: 申込責任者 | E2: =IF(集計表!$D$4<>"",集計表!$D$4,"")
C3: 電話番号 | E3: =IF(集計表!$D$5<>"",集計表!$D$5,"")
C4: メールアドレス | E4: =IF(集計表!$D$6<>"",集計表!$D$6,"")
C6: 種目名 | E6: ラージボール女子シングルス ７０歳以上７５歳未満
C8: ※このシートでは氏名と年齢のみ入力してください
C9: ※強い選手から順に入力してください
A11: № | B11: 氏 名 | E11: 年齢 | G11: № | H11: 氏 名 | K11: 年齢
A12: 1 | G12: 21
A13: 2 | G13: 22
A14: 3 | G14: 23
A15: 4 | G15: 24
A16: 5 | G16: 25
A17: 6 | G17: 26
A18: 7 | G18: 27
A19: 8 | G19: 28
A20: 9 | G20: 29
A21: 10 | G21: 30
A22: 11 | G22: 31
A23: 12 | G23: 32
... A31: 20 | G31: 40

Sheet 女S75～
C1: チーム名 | E1: =IF(集計表!$D$3<>"",集計表!$D$3,"")
C2: 申込責任者 | E2: =IF(集計表!$D$4<>"",集計表!$D$4,"")
C3: 電話番号 | E3: =IF(集計表!$D$5<>"",集計表!$D$5,"")
C4: メールアドレス | E4: =IF(集計表!$D$6<>"",集計表!$D$6,"")
C6: 種目名 | E6: ラージボール女子シングルス ７５歳以上
C8: ※このシートでは氏名と年齢のみ入力してください
C9: ※強い選手から順に入力してください
A11: № | B11: 氏 名 | E11: 年齢 | G11: № | H11: 氏 名 | K11: 年齢
A12: 1 | G12: 21
A13: 2 | G13: 22
A14: 3 | G14: 23
A15: 4 | G15: 24
A16: 5 | G16: 25
A17: 6 | G17: 26
A18: 7 | G18: 27
A19: 8 | G19: 28
A20: 9 | G20: 29
A21: 10 | G21: 30
A22: 11 | G22: 31
A23: 12 | G23: 32
... A31: 20 | G31: 40

Sheet 混合～120
C1: チーム名 | E1: =IF(集計表!$D$3<>"",集計表!$D$3,"")
C2: 申込責任者 | E2: =IF(集計表!$D$4<>"",集計表!$D$4,"")
C3: 電話番号 | E3: =IF(集計表!$D$5<>"",集計表!$D$5,"")
C4: メールアドレス | E4: =IF(集計表!$D$6<>"",集計表!$D$6,"")
C6: 種目名 | E6: ラージボール混合ダブルス １２０歳未満
C8: ※このシートでは氏名と年齢のみ入力してください
C9: ※強い選手から順に入力してください
A11: № | B11: 氏 名 | E11: 年齢 | G11: № | H11: 氏 名 | K11: 年齢
A12: 1 | G12: 11
A14: 2 | G14: 12
A16: 3 | G16: 13
A18: 4 | G18: 14
A20: 5 | G20: 15
A22: 6 | G22: 16
A24: 7 | G24: 17
A26: 8 | G26: 18
A28: 9 | G28: 19
A30: 10 | G30: 20

Sheet 混合120～140
C1: チーム名 | E1: =IF(集計表!$D$3<>"",集計表!$D$3,"")
C2: 申込責任者 | E2: =IF(集計表!$D$4<>"",集計表!$D$4,"")
C3: 電話番号 | E3: =IF(集計表!$D$5<>"",集計表!$D$5,"")
C4: メールアドレス | E4: =IF(集計表!$D$6<>"",集計表!$D$6,"")
C6: 種目名 | E6: ラージボール混合ダブルス １２０歳以上１４０歳未満
C8: ※このシートでは氏名と年齢のみ入力してください
C9: ※強い選手から順に入力してください
A11: № | B11: 氏 名 | E11: 年齢 | G11: № | H11: 氏 名 | K11: 年齢
A12: 1 | G12: 11
A14: 2 | G14: 12
A16: 3 | G16: 13
A18: 4 | G18: 14
A20: 5 | G20: 15
A22: 6 | G22: 16
A24: 7 | G24: 17
A26: 8 | G26: 18
A28: 9 | G28: 19
A30: 10 | G30: 20

Sheet 混合140～150
C1: チーム名 | E1: =IF(集計表!$D$3<>"",集計表!$D$3,"")
C2: 申込責任者 | E2: =IF(集計表!$D$4<>"",集計表!$D$4,"")
C3: 電話番号 | E3: =IF(集計表!$D$5<>"",集計表!$D$5,"")
C4: メールアドレス | E4: =IF(集計表!$D$6<>"",集計表!$D$6,"")
C6: 種目名 | E6: ラージボール混合ダブルス １４０歳以上１５０歳未満
C8: ※このシートでは氏名と年齢のみ入力してください
C9: ※強い選手から順に入力してください
A11: № | B11: 氏 名 | E11: 年齢 | G11: № | H11: 氏 名 | K11: 年齢
A12: 1 | G12: 11
A14: 2 | G14: 12
A16: 3 | G16: 13
A18: 4 | G18: 14
A20: 5 | G20: 15
A22: 6 | G22: 16
A24: 7 | G24: 17
A26: 8 | G26: 18
A28: 9 | G28: 19
A30: 10 | G30: 20

Sheet 混合150～
C1: チーム名 | E1: =IF(集計表!$D$3<>"",集計表!$D$3,"")
C2: 申込責任者 | E2: =IF(集計表!$D$4<>"",集計表!$D$4,"")
C3: 電話番号 | E3: =IF(集計表!$D$5<>"",集計表!$D$5,"")
C4: メールアドレス | E4: =IF(集計表!$D$6<>"",集計表!$D$6,"")
C6: 種目名 | E6: ラージボール混合ダブルス １５０歳以上
C8: ※このシートでは氏名と年齢のみ入力してください
C9: ※強い選手から順に入力してください
A11: № | B11: 氏 名 | E11: 年齢 | G11: № | H11: 氏 名 | K11: 年齢
A12: 1 | G12: 11
A14: 2 | G14: 12
A16: 3 | G16: 13
A18: 4 | G18: 14
A20: 5 | G20: 15
A22: 6 | G22: 16
A24: 7 | G24: 17
A26: 8 | G26: 18
A28: 9 | G28: 19
A30: 10 | G30: 20
